BEGIN:VCALENDAR
VERSION:2.0
PRODID:-//hacksw/handcal//NONSGML v1.0//EN
CALSCALE:GREGORIAN
BEGIN:VEVENT
LOCATION:Bois 0
DESCRIPTION: http://maps.google.com/maps?t=k&q=loc:47.243457+5.940550
DTSTART:Europe/Paris:20260503T140000Z
DTEND:Europe/Paris:20260503T140000Z
SUMMARY:Dominicale APRES-MIDI 03/05 le Dimanche 03 Mai 2026 à 14H00
URL;VALUE=URI:
DTSTAMP:20260421T102147Z
UID:69e74fbbcff96
END:VEVENT
END:VCALENDAR